BEGIN:VCALENDAR
VERSION:2.0
PRODID:-//Judo Vlaanderen - ECPv6.15.18//NONSGML v1.0//EN
CALSCALE:GREGORIAN
METHOD:PUBLISH
X-ORIGINAL-URL:https://judovlaanderen.be
X-WR-CALDESC:Events voor Judo Vlaanderen
REFRESH-INTERVAL;VALUE=DURATION:PT1H
X-Robots-Tag:noindex
X-PUBLISHED-TTL:PT1H
BEGIN:VTIMEZONE
TZID:UTC
BEGIN:STANDARD
TZOFFSETFROM:+0000
TZOFFSETTO:+0000
TZNAME:UTC
DTSTART:20250101T000000
END:STANDARD
END:VTIMEZONE
BEGIN:VEVENT
DTSTART;TZID=UTC:20260425T083000
DTEND;TZID=UTC:20260425T130000
DTSTAMP:20260421T081250
CREATED:20260121T074318Z
LAST-MODIFIED:20260420T135211Z
UID:10000223-1777105800-1777122000@judovlaanderen.be
SUMMARY:Prijs der Noorderkempen U15 U18
DESCRIPTION:prijsdernoorderkempen@gmail.com of judoclubhiranobrecht@gmail.com Voor meer informatie\, neem contact op met  0472578218
URL:https://judovlaanderen.be/events/prijs-der-noorderkempen-u15-u18/
LOCATION:Mintjens Arena\, Heidemolenbaan 75\, Malle\, Antwerpen\, 2390\, België
CATEGORIES:Clubtornooi,Event,U15+ (tornooien)
END:VEVENT
BEGIN:VEVENT
DTSTART;TZID=UTC:20260425T090000
DTEND;TZID=UTC:20260425T170000
DTSTAMP:20260421T081250
CREATED:20251115T161134Z
LAST-MODIFIED:20260420T135214Z
UID:10000181-1777107600-1777136400@judovlaanderen.be
SUMMARY:Jeugdontmoeting Eernegem U11/U13
DESCRIPTION:Ontmoeting U13 – U11 Voor meer informatie\, neem contact op met  0476295098
URL:https://judovlaanderen.be/events/jeugdontmoeting-eernegem-u11-u13/
LOCATION:sporthal Klokkeput\, Bruggestraat 104a\, Eernegem\, West-Vlaanderen\, 8210\, België
CATEGORIES:Clubtornooi,Ontmoeting,U13 (ontmoetingen)
END:VEVENT
BEGIN:VEVENT
DTSTART;TZID=UTC:20260425T130000
DTEND;TZID=UTC:20260425T170000
DTSTAMP:20260421T081250
CREATED:20260121T074318Z
LAST-MODIFIED:20260420T135211Z
UID:10000224-1777122000-1777136400@judovlaanderen.be
SUMMARY:Prijs der Noorderkempen Ploegentornooi
DESCRIPTION:Ploegentornooi: inschrijven en info prijsdernoorderkempen@gmail.com Voor meer informatie\, neem contact op met  0472578218
URL:https://judovlaanderen.be/events/prijs-der-noorderkempen-ploegentornooi/
LOCATION:Mintjens Arena\, Heidemolenbaan 75\, Malle\, Antwerpen\, 2390\, België
CATEGORIES:Clubtornooi,Event,U15+ (tornooien)
END:VEVENT
BEGIN:VEVENT
DTSTART;TZID=UTC:20260426T083000
DTEND;TZID=UTC:20260426T160000
DTSTAMP:20260421T081250
CREATED:20260121T074318Z
LAST-MODIFIED:20260420T135211Z
UID:10000225-1777192200-1777219200@judovlaanderen.be
SUMMARY:Prijs der Noorderkempen U11 U13
DESCRIPTION:info prijsdernoorderkempen@gmail.com Voor meer informatie\, neem contact op met  0472578218
URL:https://judovlaanderen.be/events/prijs-der-noorderkempen-u11-u13/
LOCATION:Mintjens Arena\, Heidemolenbaan 75\, Malle\, Antwerpen\, 2390\, België
CATEGORIES:Clubtornooi,Ontmoeting,U13 (ontmoetingen)
END:VEVENT
BEGIN:VEVENT
DTSTART;TZID=UTC:20260426T083000
DTEND;TZID=UTC:20260426T170000
DTSTAMP:20260421T081250
CREATED:20251115T161134Z
LAST-MODIFIED:20260420T135214Z
UID:10000182-1777192200-1777222800@judovlaanderen.be
SUMMARY:Tornooi Eernegem
DESCRIPTION:Tornooi U15 – U18 – U+21 Voor meer informatie\, neem contact op met  0476295098
URL:https://judovlaanderen.be/events/tornooi-eernegem/
LOCATION:sporthal Klokkeput\, Bruggestraat 104a\, Eernegem\, West-Vlaanderen\, 8210\, België
CATEGORIES:Clubtornooi,Event,U15+ (tornooien)
END:VEVENT
BEGIN:VEVENT
DTSTART;TZID=UTC:20260502T090000
DTEND;TZID=UTC:20260502T170000
DTSTAMP:20260421T081250
CREATED:20260121T074318Z
LAST-MODIFIED:20260420T135211Z
UID:10000222-1777712400-1777741200@judovlaanderen.be
SUMMARY:10de Open Bekers van Gent
DESCRIPTION:Betaling :\n– 10\,00 € ( Euro ) per judoka op IBAN: BE 62 9731 3257 2661 (met als mededeling “Bekers Gent 2026 +club +clubnummer”\n– Betaling : storting door de clubverantwoordelijke uiterlijk op VRIJDAG 24 april 2026 (bewijs meebrengen)\nOPGELET : Niet tijdige betaling = Weigering van deelname aan het toernooi\n Voor meer informatie\, neem contact op met  +32477233077
URL:https://judovlaanderen.be/events/10de-open-bekers-van-gent/
LOCATION:Topsporthal Vlaanderen\, Zuiderlaan\, Gent\, Vlaams-Brabant\, 14\, België
CATEGORIES:Clubtornooi,Event,U15+ (tornooien)
END:VEVENT
BEGIN:VEVENT
DTSTART;TZID=UTC:20260503T090000
DTEND;TZID=UTC:20260503T120000
DTSTAMP:20260421T081250
CREATED:20260121T074322Z
LAST-MODIFIED:20260420T135215Z
UID:10000236-1777798800-1777809600@judovlaanderen.be
SUMMARY:Ne Waza Tornooi Noorderkempen
DESCRIPTION:Weging: 12:30u tot 13:00\nwedstrijden 13:30 Voor meer informatie\, neem contact op met  0472578218
URL:https://judovlaanderen.be/events/ne-waza-tornooi-noorderkempen/
LOCATION:Mintjens Arena\, Heidemolenbaan 75\, Malle\, Antwerpen\, 2390\, België
CATEGORIES:Clubtornooi,Event,U15+ (tornooien)
END:VEVENT
BEGIN:VEVENT
DTSTART;TZID=UTC:20260510T073000
DTEND;TZID=UTC:20260510T173000
DTSTAMP:20260421T081250
CREATED:20260121T074321Z
LAST-MODIFIED:20260420T135214Z
UID:10000229-1778398200-1778434200@judovlaanderen.be
SUMMARY:Beker van Westerlo "Parel der Kempen" - U21+
DESCRIPTION:1e editie van BEKER van OEVEL\, judotornooi voor U15/18/21+\n– 3 of 4 matten afhankelijk van het aantal deelnemers\n– we streven ernaar de judoka’s zo veel mogelijk te laten kampen en de wachttijden zo kort mogelijk te houden\n– definitieve weegtijden volgen binnen enkele maanden Voor meer informatie\, neem contact op met  0496 24 49 26
URL:https://judovlaanderen.be/events/beker-van-oevel-u21/
LOCATION:Sportpark De Beeltjens\, Kasteelpark 6\, Westerlo\, Antwerpen\, 2260\, België
CATEGORIES:Clubtornooi,Event,U15+ (tornooien)
END:VEVENT
BEGIN:VEVENT
DTSTART;TZID=UTC:20260510T083000
DTEND;TZID=UTC:20260510T173000
DTSTAMP:20260421T081250
CREATED:20260121T074321Z
LAST-MODIFIED:20260420T135214Z
UID:10000227-1778401800-1778434200@judovlaanderen.be
SUMMARY:Beker van Westerlo "Parel der Kempen" - U15
DESCRIPTION:1e editie van BEKER van OEVEL\, judotornooi voor U15/18/21+\n– 3 of 4 matten afhankelijk van het aantal deelnemers\n– we streven ernaar de judoka’s zo veel mogelijk te laten kampen en de wachttijden zo kort mogelijk te houden\n– definitieve weegtijden volgen binnen enkele maanden Voor meer informatie\, neem contact op met  0496 24 49 26
URL:https://judovlaanderen.be/events/beker-van-oevel-u15/
LOCATION:Sportpark De Beeltjens\, Kasteelpark 6\, Westerlo\, Antwerpen\, 2260\, België
CATEGORIES:Clubtornooi,Event,U15+ (tornooien)
END:VEVENT
BEGIN:VEVENT
DTSTART;TZID=UTC:20260510T083000
DTEND;TZID=UTC:20260510T173000
DTSTAMP:20260421T081250
CREATED:20260121T074321Z
LAST-MODIFIED:20260420T135214Z
UID:10000228-1778401800-1778434200@judovlaanderen.be
SUMMARY:Beker van Westerlo "Parel der Kempen" - U18
DESCRIPTION:1e editie van BEKER van OEVEL\, judotornooi voor U15/18/21+\n– 3 of 4 matten afhankelijk van het aantal deelnemers\n– we streven ernaar de judoka’s zo veel mogelijk te laten kampen en de wachttijden zo kort mogelijk te houden\n– definitieve weegtijden volgen binnen enkele maanden Voor meer informatie\, neem contact op met  0496 24 49 26
URL:https://judovlaanderen.be/events/beker-van-oevel-u18/
LOCATION:Sportpark De Beeltjens\, Kasteelpark 6\, Westerlo\, Antwerpen\, 2260\, België
CATEGORIES:Clubtornooi,Event,U15+ (tornooien)
END:VEVENT
BEGIN:VEVENT
DTSTART;TZID=UTC:20260516T080000
DTEND;TZID=UTC:20260516T180000
DTSTAMP:20260421T081250
CREATED:20260121T074316Z
LAST-MODIFIED:20260420T135210Z
UID:10000208-1778918400-1778954400@judovlaanderen.be
SUMMARY:Ippon Trophy Antwerp U15
DESCRIPTION:Internationaal judotornooi Voor meer informatie\, neem contact op met  0475325975
URL:https://judovlaanderen.be/events/ippon-trophy-antwerp-u15/
LOCATION:Sporthal De Rode Loop\, Rode Loopstraat 2\, Merksem\, Antwerpen\, 2170\, België
CATEGORIES:Clubtornooi,Event,U15+ (tornooien)
END:VEVENT
BEGIN:VEVENT
DTSTART;TZID=UTC:20260516T080000
DTEND;TZID=UTC:20260516T180000
DTSTAMP:20260421T081250
CREATED:20260121T074316Z
LAST-MODIFIED:20260420T135209Z
UID:10000207-1778918400-1778954400@judovlaanderen.be
SUMMARY:Ippon Trophy Antwerp U18
DESCRIPTION:Internationaal judotornooi Voor meer informatie\, neem contact op met  0475325975
URL:https://judovlaanderen.be/events/ippon-trophy-antwerp-u18/
LOCATION:Sporthal De Rode Loop\, Rode Loopstraat 2\, Merksem\, Antwerpen\, 2170\, België
CATEGORIES:Clubtornooi,Event,U15+ (tornooien)
END:VEVENT
BEGIN:VEVENT
DTSTART;TZID=UTC:20260517T080000
DTEND;TZID=UTC:20260517T130000
DTSTAMP:20260421T081250
CREATED:20260121T074316Z
LAST-MODIFIED:20260420T135210Z
UID:10000210-1779004800-1779022800@judovlaanderen.be
SUMMARY:Ippon Trophy Antwerp U11
DESCRIPTION:Internationaal Judotornooi Voor meer informatie\, neem contact op met  0475325975
URL:https://judovlaanderen.be/events/ippon-trophy-antwerp-u11/
LOCATION:Sporthal De Rode Loop\, Rode Loopstraat 2\, Merksem\, Antwerpen\, 2170\, België
CATEGORIES:Clubtornooi,Ontmoeting,U13 (ontmoetingen)
END:VEVENT
BEGIN:VEVENT
DTSTART;TZID=UTC:20260517T083000
DTEND;TZID=UTC:20260517T140000
DTSTAMP:20260421T081250
CREATED:20260121T074316Z
LAST-MODIFIED:20260420T135210Z
UID:10000209-1779006600-1779026400@judovlaanderen.be
SUMMARY:Ippon Trophy Antwerp U21+
DESCRIPTION:Internationaal Judotornooi Voor meer informatie\, neem contact op met  0475325975
URL:https://judovlaanderen.be/events/ippon-trophy-antwerp-u21/
LOCATION:Sporthal De Rode Loop\, Rode Loopstraat 2\, Merksem\, Antwerpen\, 2170\, België
CATEGORIES:Clubtornooi,Event,U15+ (tornooien)
END:VEVENT
BEGIN:VEVENT
DTSTART;TZID=UTC:20260517T123000
DTEND;TZID=UTC:20260517T180000
DTSTAMP:20260421T081250
CREATED:20260121T074316Z
LAST-MODIFIED:20260420T135210Z
UID:10000211-1779021000-1779040800@judovlaanderen.be
SUMMARY:Ippon Trophy Antwerp U13
DESCRIPTION:Internationaal Judotornooi Voor meer informatie\, neem contact op met  0475325975
URL:https://judovlaanderen.be/events/ippon-trophy-antwerp-u13/
LOCATION:Sporthal De Rode Loop\, Rode Loopstraat 2\, Merksem\, Antwerpen\, 2170\, België
CATEGORIES:Clubtornooi,Ontmoeting,U13 (ontmoetingen)
END:VEVENT
BEGIN:VEVENT
DTSTART;TZID=UTC:20260531T080000
DTEND;TZID=UTC:20260531T123000
DTSTAMP:20260421T081250
CREATED:20260121T074317Z
LAST-MODIFIED:20260420T135211Z
UID:10000213-1780214400-1780230600@judovlaanderen.be
SUMMARY:U11 Ontmoeting
DESCRIPTION:U 11 Ontmoeting Voor meer informatie\, neem contact op met  0498100321
URL:https://judovlaanderen.be/events/u11-ontmoeting/
LOCATION:Gemeentelijke Sporthal Berlare\, Dorp 37\, Berlare\, Oost-Vlaanderen\, 9290\, België
CATEGORIES:Clubtornooi,Ontmoeting,U13 (ontmoetingen)
END:VEVENT
BEGIN:VEVENT
DTSTART;TZID=UTC:20260531T123000
DTEND;TZID=UTC:20260531T180000
DTSTAMP:20260421T081250
CREATED:20260121T074317Z
LAST-MODIFIED:20260420T135211Z
UID:10000214-1780230600-1780250400@judovlaanderen.be
SUMMARY:U13 Ontmoeting
DESCRIPTION:U 13 Ontmoeting Voor meer informatie\, neem contact op met  0498100321
URL:https://judovlaanderen.be/events/u13-ontmoeting/
LOCATION:Gemeentelijke Sporthal Berlare\, Dorp 37\, Berlare\, Oost-Vlaanderen\, 9290\, België
CATEGORIES:Clubtornooi,Ontmoeting,U13 (ontmoetingen)
END:VEVENT
END:VCALENDAR